BEGIN:VCALENDAR
VERSION:2.0
PRODID:-//West of the Pecos Cattlewomen - ECPv6.15.20//NONSGML v1.0//EN
CALSCALE:GREGORIAN
METHOD:PUBLISH
X-ORIGINAL-URL:https://westofthepecoscattlewomen.org
X-WR-CALDESC:Events for West of the Pecos Cattlewomen
REFRESH-INTERVAL;VALUE=DURATION:PT1H
X-Robots-Tag:noindex
X-PUBLISHED-TTL:PT1H
BEGIN:VTIMEZONE
TZID:UTC
BEGIN:STANDARD
TZOFFSETFROM:+0000
TZOFFSETTO:+0000
TZNAME:UTC
DTSTART:20180101T000000
END:STANDARD
END:VTIMEZONE
BEGIN:VEVENT
DTSTART;TZID=UTC:20200305T120000
DTEND;TZID=UTC:20200305T130000
DTSTAMP:20260423T215857
CREATED:20200117T185827Z
LAST-MODIFIED:20200117T185827Z
UID:1199-1583409600-1583413200@westofthepecoscattlewomen.org
SUMMARY:March Meeting 2020
DESCRIPTION:
URL:https://westofthepecoscattlewomen.org/event/march-meeting-2020/
LOCATION:Balmorhea\, Balmorhea\, Texas
CATEGORIES:Monthly Mtg
END:VEVENT
BEGIN:VEVENT
DTSTART;TZID=UTC:20200206T120000
DTEND;TZID=UTC:20200206T133000
DTSTAMP:20260423T215857
CREATED:20200117T185334Z
LAST-MODIFIED:20200117T185334Z
UID:1195-1580990400-1580995800@westofthepecoscattlewomen.org
SUMMARY:February Meeting 2020
DESCRIPTION:
URL:https://westofthepecoscattlewomen.org/event/february-meeting-2020/
LOCATION:Valentine Community Center\, Valentine\, Texas
CATEGORIES:Monthly Mtg
END:VEVENT
BEGIN:VEVENT
DTSTART;TZID=UTC:20191205T120000
DTEND;TZID=UTC:20191205T130000
DTSTAMP:20260423T215857
CREATED:20190530T132830Z
LAST-MODIFIED:20190530T133641Z
UID:1052-1575547200-1575550800@westofthepecoscattlewomen.org
SUMMARY:December Meeting
DESCRIPTION:West of the Pecos Cattlewomen’s Christmas Meeting.
URL:https://westofthepecoscattlewomen.org/event/december-meeting/
LOCATION:Taste and See Bakery\, 116 N 5th Street\, Alpine\, TX\, 79830\, United States
CATEGORIES:Monthly Mtg
END:VEVENT
BEGIN:VEVENT
DTSTART;TZID=UTC:20191107T120000
DTEND;TZID=UTC:20191107T130000
DTSTAMP:20260423T215857
CREATED:20190530T132420Z
LAST-MODIFIED:20190530T133718Z
UID:1048-1573128000-1573131600@westofthepecoscattlewomen.org
SUMMARY:November Meeting
DESCRIPTION:
URL:https://westofthepecoscattlewomen.org/event/november-meeting/
LOCATION:Member’s Home Alpine\, Alpine\, TX\, United States
CATEGORIES:Monthly Mtg
END:VEVENT
BEGIN:VEVENT
DTSTART;TZID=UTC:20191003T120000
DTEND;TZID=UTC:20191003T130000
DTSTAMP:20260423T215857
CREATED:20190530T132057Z
LAST-MODIFIED:20190530T133757Z
UID:1044-1570104000-1570107600@westofthepecoscattlewomen.org
SUMMARY:October Meeting
DESCRIPTION:
URL:https://westofthepecoscattlewomen.org/event/october-meeting/
LOCATION:Gage Hotel\, Marathon\, TX\, United States
CATEGORIES:Monthly Mtg
END:VEVENT
BEGIN:VEVENT
DTSTART;TZID=UTC:20190905T120000
DTEND;TZID=UTC:20190905T130000
DTSTAMP:20260423T215857
CREATED:20190530T131654Z
LAST-MODIFIED:20190902T151148Z
UID:1041-1567684800-1567688400@westofthepecoscattlewomen.org
SUMMARY:September Meeting
DESCRIPTION:
URL:https://westofthepecoscattlewomen.org/event/september-meeting/
LOCATION:Saint George Hotel Dining Room\, 105 South Highland Avenue\, Marfa\, TX\, United States
CATEGORIES:Monthly Mtg
END:VEVENT
BEGIN:VEVENT
DTSTART;TZID=UTC:20190801T120000
DTEND;TZID=UTC:20190801T130000
DTSTAMP:20260423T215857
CREATED:20190530T125910Z
LAST-MODIFIED:20190530T133839Z
UID:1033-1564660800-1564664400@westofthepecoscattlewomen.org
SUMMARY:August Meeting
DESCRIPTION:
URL:https://westofthepecoscattlewomen.org/event/august-meeting-2019/
LOCATION:TBD\, Fort Davis\, TX\, United States
CATEGORIES:Monthly Mtg
END:VEVENT
BEGIN:VEVENT
DTSTART;TZID=UTC:20190704T120000
DTEND;TZID=UTC:20190704T130000
DTSTAMP:20260423T215857
CREATED:20190530T125550Z
LAST-MODIFIED:20190530T133919Z
UID:1030-1562241600-1562245200@westofthepecoscattlewomen.org
SUMMARY:July Meeting
DESCRIPTION:There will be no meeting in July for West of the Pecos Cattlewomen
URL:https://westofthepecoscattlewomen.org/event/july-meeting-2019/
LOCATION:No Meeting
CATEGORIES:Monthly Mtg
END:VEVENT
BEGIN:VEVENT
DTSTART;TZID=UTC:20190606T120000
DTEND;TZID=UTC:20190606T130000
DTSTAMP:20260423T215857
CREATED:20190530T125058Z
LAST-MODIFIED:20190530T134941Z
UID:1025-1559822400-1559826000@westofthepecoscattlewomen.org
SUMMARY:June Meeting
DESCRIPTION:
URL:https://westofthepecoscattlewomen.org/event/june-meeting/
LOCATION:Century Bar and Grill\, 209 W Holland\, Alpine\, TX\, 79830\, United States
CATEGORIES:Monthly Mtg
END:VEVENT
END:VCALENDAR